BEGIN:VCALENDAR
VERSION:2.0
PRODID:-//Wat Nawamintararachutis, Boston, MA. USA. - ECPv5.3.0//NONSGML v1.0//EN
CALSCALE:GREGORIAN
METHOD:PUBLISH
X-WR-CALNAME:Wat Nawamintararachutis, Boston, MA. USA.
X-ORIGINAL-URL:https://watnawamin.org
X-WR-CALDESC:Events for Wat Nawamintararachutis, Boston, MA. USA.
BEGIN:VTIMEZONE
TZID:America/New_York
BEGIN:DAYLIGHT
TZOFFSETFROM:-0500
TZOFFSETTO:-0400
TZNAME:EDT
DTSTART:20250309T070000
END:DAYLIGHT
BEGIN:STANDARD
TZOFFSETFROM:-0400
TZOFFSETTO:-0500
TZNAME:EST
DTSTART:20251102T060000
END:STANDARD
END:VTIMEZONE
BEGIN:VEVENT
DTSTART;TZID=America/New_York:20251109T140000
DTEND;TZID=America/New_York:20251109T190000
DTSTAMP:20260422T000818
CREATED:20251107T180456Z
LAST-MODIFIED:20251107T180947Z
UID:12888-1762696800-1762714800@watnawamin.org
SUMMARY:Loy Krathong
DESCRIPTION:Loy Krathong Celebration\nJoin us as we commemorate the life and legacy of Her Majesty Queen Sirikit\, The Queen Mother.\n\n\nSunday November 9\,2025\n2.00 PM-7.00 PM\n\n\nCome be a part of this special ceremony honoring her timeless contributions to Thai culture.\n\n\nActivities include:\n• Floating candles and krathong\n• Krathong contest\n• Kids’ contest\n• Traditional Thai dress show and contest featuring the iconic styles inspired by Her Majesty’s legacy\n\n\nThai dress is encouraged but not required.\nBlack ribbons will be provided.
URL:https://watnawamin.org/event/loy-krathong/
LOCATION:NMR Meditation Center\, 382 South Street East\, Raynham\, MA\, 02767\, United States
ORGANIZER;CN="Wat%20Nawamintararachutis":MAILTO:info@watnawamin.org
END:VEVENT
END:VCALENDAR